BEGIN:VCALENDAR
VERSION:2.0
PRODID:-//Emerald coast area NA - ECPv6.15.20//NONSGML v1.0//EN
CALSCALE:GREGORIAN
METHOD:PUBLISH
X-ORIGINAL-URL:https://emeraldcoastareana.org
X-WR-CALDESC:Events for Emerald coast area NA
REFRESH-INTERVAL;VALUE=DURATION:PT1H
X-Robots-Tag:noindex
X-PUBLISHED-TTL:PT1H
BEGIN:VTIMEZONE
TZID:UTC
BEGIN:STANDARD
TZOFFSETFROM:+0000
TZOFFSETTO:+0000
TZNAME:UTC
DTSTART:20250101T000000
END:STANDARD
END:VTIMEZONE
BEGIN:VEVENT
DTSTART;TZID=UTC:20260313T160000
DTEND;TZID=UTC:20260315T103000
DTSTAMP:20260423T153508
CREATED:20260121T161707Z
LAST-MODIFIED:20260121T161707Z
UID:1162-1773417600-1773570600@emeraldcoastareana.org
SUMMARY:Serenity Campout
DESCRIPTION:
URL:https://emeraldcoastareana.org/event/serenity-campout/
LOCATION:Sand Pond Campground Ebro Fl.\, Long Leaf R\, Ebro\, FL\, 32437\, United States
END:VEVENT
END:VCALENDAR