BEGIN:VCALENDAR
VERSION:2.0
PRODID:-//Emerald coast area NA - ECPv6.15.20//NONSGML v1.0//EN
CALSCALE:GREGORIAN
METHOD:PUBLISH
X-ORIGINAL-URL:https://emeraldcoastareana.org
X-WR-CALDESC:Events for Emerald coast area NA
REFRESH-INTERVAL;VALUE=DURATION:PT1H
X-Robots-Tag:noindex
X-PUBLISHED-TTL:PT1H
BEGIN:VTIMEZONE
TZID:UTC
BEGIN:STANDARD
TZOFFSETFROM:+0000
TZOFFSETTO:+0000
TZNAME:UTC
DTSTART:20250101T000000
END:STANDARD
END:VTIMEZONE
BEGIN:VEVENT
DTSTART;TZID=UTC:20260328T193000
DTEND;TZID=UTC:20260328T203000
DTSTAMP:20260423T153524
CREATED:20260323T211118Z
LAST-MODIFIED:20260323T220256Z
UID:1207-1774726200-1774729800@emeraldcoastareana.org
SUMMARY:Bridge to Freedom Birthday Celebration
DESCRIPTION:Come and help celebrate some clean time! \nCelebrants: \nKelly D 10 years \nKayden H 3 years \nAnt M 1 year \nMeagan M 1 year \nTyler C 1 year \nBecause WHEN ONE OF US CELBRATES… \n 
URL:https://emeraldcoastareana.org/event/bridge-to-freedom-birthday-celebration/
LOCATION:Bridge to Freedom\, 1608 Baker Ct\, Panama City\, FL\, 32401\, United States
END:VEVENT
END:VCALENDAR