BEGIN:VCALENDAR
VERSION:2.0
PRODID:-//Emerald coast area NA - ECPv6.15.20//NONSGML v1.0//EN
CALSCALE:GREGORIAN
METHOD:PUBLISH
X-WR-CALNAME:Emerald coast area NA
X-ORIGINAL-URL:https://emeraldcoastareana.org
X-WR-CALDESC:Events for Emerald coast area NA
REFRESH-INTERVAL;VALUE=DURATION:PT1H
X-Robots-Tag:noindex
X-PUBLISHED-TTL:PT1H
BEGIN:VTIMEZONE
TZID:UTC
BEGIN:STANDARD
TZOFFSETFROM:+0000
TZOFFSETTO:+0000
TZNAME:UTC
DTSTART:20250101T000000
END:STANDARD
END:VTIMEZONE
BEGIN:VEVENT
DTSTART;TZID=UTC:20260331T183000
DTEND;TZID=UTC:20260331T200000
DTSTAMP:20260423T144151
CREATED:20260323T215430Z
LAST-MODIFIED:20260324T144106Z
UID:1213-1774981800-1774987200@emeraldcoastareana.org
SUMMARY:Last Chance Birthday Celebration
DESCRIPTION:BIRTHDAY CELEBRATION POSTPONED \n  \n 
URL:https://emeraldcoastareana.org/event/last-chance-birthday-celebration/
LOCATION:Last Chance\, 1063 Circle dr.\, Defuniak springs\, FL\, 32435\, United States
END:VEVENT
END:VCALENDAR