BEGIN:VCALENDAR
VERSION:2.0
PRODID:-//Emerald coast area NA - ECPv6.15.20//NONSGML v1.0//EN
CALSCALE:GREGORIAN
METHOD:PUBLISH
X-WR-CALNAME:Emerald coast area NA
X-ORIGINAL-URL:https://emeraldcoastareana.org
X-WR-CALDESC:Events for Emerald coast area NA
REFRESH-INTERVAL;VALUE=DURATION:PT1H
X-Robots-Tag:noindex
X-PUBLISHED-TTL:PT1H
BEGIN:VTIMEZONE
TZID:UTC
BEGIN:STANDARD
TZOFFSETFROM:+0000
TZOFFSETTO:+0000
TZNAME:UTC
DTSTART:20250101T000000
END:STANDARD
END:VTIMEZONE
BEGIN:VEVENT
DTSTART;TZID=UTC:20260118T140000
DTEND;TZID=UTC:20260118T150000
DTSTAMP:20260423T175952
CREATED:20260118T194610Z
LAST-MODIFIED:20260118T194610Z
UID:1159-1768744800-1768748400@emeraldcoastareana.org
SUMMARY:Activities
DESCRIPTION:Sunday 1/18/26 2:00 pm \nCamel club
URL:https://emeraldcoastareana.org/event/activities/
LOCATION:camel club\, 249 E Hewett Rd\, Santa Rosa beach\, FL\, United States
END:VEVENT
END:VCALENDAR