BEGIN:VCALENDAR
VERSION:2.0
PRODID:-//Emerald coast area NA - ECPv6.15.20//NONSGML v1.0//EN
CALSCALE:GREGORIAN
METHOD:PUBLISH
X-ORIGINAL-URL:https://emeraldcoastareana.org
X-WR-CALDESC:Events for Emerald coast area NA
REFRESH-INTERVAL;VALUE=DURATION:PT1H
X-Robots-Tag:noindex
X-PUBLISHED-TTL:PT1H
BEGIN:VTIMEZONE
TZID:UTC
BEGIN:STANDARD
TZOFFSETFROM:+0000
TZOFFSETTO:+0000
TZNAME:UTC
DTSTART:20250101T000000
END:STANDARD
END:VTIMEZONE
BEGIN:VEVENT
DTSTART;TZID=UTC:20260220T170000
DTEND;TZID=UTC:20260220T213000
DTSTAMP:20260423T153604
CREATED:20260121T163145Z
LAST-MODIFIED:20260121T163145Z
UID:1166-1771606800-1771623000@emeraldcoastareana.org
SUMMARY:School of Hard Knocks Reunion
DESCRIPTION:
URL:https://emeraldcoastareana.org/event/school-of-hard-knocks-reunion/
LOCATION:Frank Nelson Park\, 4201 W 23rd St\, Panama City\, FL\, 32405\, United States
END:VEVENT
END:VCALENDAR